BEGIN:VCALENDAR
VERSION:2.0
PRODID:spatie/icalendar-generator
NAME:After Work: IT-Security 4 take away
X-WR-CALNAME:After Work: IT-Security 4 take away
BEGIN:VTIMEZONE
TZID:Europe/Berlin
BEGIN:STANDARD
DTSTART:20251026T030000
TZOFFSETFROM:+0200
TZOFFSETTO:+0100
END:STANDARD
BEGIN:DAYLIGHT
DTSTART:20260329T010000
TZOFFSETFROM:+0100
TZOFFSETTO:+0200
END:DAYLIGHT
BEGIN:STANDARD
DTSTART:20261025T030000
TZOFFSETFROM:+0200
TZOFFSETTO:+0100
END:STANDARD
END:VTIMEZONE
BEGIN:VTIMEZONE
TZID:UTC
BEGIN:STANDARD
DTSTART:20250728T183421
TZOFFSETFROM:+0000
TZOFFSETTO:+0000
END:STANDARD
END:VTIMEZONE
BEGIN:VEVENT
UID:69ebb7ad5b822
DTSTAMP:20260424T183421Z
SUMMARY:After Work: IT-Security 4 take away
DESCRIPTION:Wir laden herzlich zu unserem After‑Work‑Format ein\, das k
 ompakte fachliche Einblicke zu aktuellen Herausforderungen im Bereich der 
 Informationssicherheit bietet.\n\nIm Rahmen mehrerer Kurzvorträge erhalte
 n Sie einen Überblick über:\n\n\nIT‑Sicherheit und aktuelle Bedrohungs
 lagen\nNIS2‑Richtlinie und ihre Anforderungen an Unternehmen\nResilienzs
 trategien in unsicheren Zeiten\nIm Anschluss an die Vorträge laden wir Si
 e zu einem gemeinsamen \"Angrillen\" ein. Diese Gelegenheit möchten wir n
 utzen\, um in einem informellen Rahmen fachliche Fragen zu vertiefen und d
 en persönlichen Austausch zu fördern.\n\n\n\n\n
LOCATION:ennit GmbH\, Gerhard-Fröhler-Straße 12\, 24106 Kiel
URL:https://events.digitalewochekiel.de/event/8KD8pJ9r
DTSTART;TZID=Europe/Berlin:20260506T170000
DTEND;TZID=Europe/Berlin:20260506T200000
END:VEVENT
END:VCALENDAR