BEGIN:VCALENDAR
VERSION:2.0
PRODID:spatie/icalendar-generator
NAME:Big Tech muss weg! - WebMontag Spezial
X-WR-CALNAME:Big Tech muss weg! - WebMontag Spezial
BEGIN:VTIMEZONE
TZID:Europe/Berlin
BEGIN:STANDARD
DTSTART:20241027T030000
TZOFFSETFROM:+0200
TZOFFSETTO:+0100
END:STANDARD
BEGIN:DAYLIGHT
DTSTART:20250330T010000
TZOFFSETFROM:+0100
TZOFFSETTO:+0200
END:DAYLIGHT
BEGIN:STANDARD
DTSTART:20251026T030000
TZOFFSETFROM:+0200
TZOFFSETTO:+0100
END:STANDARD
END:VTIMEZONE
BEGIN:VTIMEZONE
TZID:UTC
BEGIN:STANDARD
DTSTART:20250727T093344
TZOFFSETFROM:+0000
TZOFFSETTO:+0000
END:STANDARD
END:VTIMEZONE
BEGIN:VEVENT
UID:69e9e7784eec0
DTSTAMP:20260423T093344Z
SUMMARY:Big Tech muss weg! - WebMontag Spezial
DESCRIPTION:Unsere mediale Öffentlichkeit wird dominiert von den Big-Tech-
 Konzernen aus den USA und China. Das hat der Medienwissenschaftler Dr. Mar
 tin Andree mit seiner Forschung nachgewiesen. Selbst große deutsche Medie
 n bekommen nur einen Bruchteil der Aufmerksamkeit\, verglichen mit den glo
 balen Unternehmen. Gleichzeitig steuern deren Algorithmen unsere Aufmerksa
 mkeit - was bekommen wir zu sehen und was nicht. Martin Andree gibt sich a
 ber nicht mit der Analyse der Situation zufrieden\, denn er macht auch Vor
 schläge dazu\, wie wir die Lage ändern können. Er fordert: Big Tech mus
 s weg!Wir freuen uns\, dass wir Dr. Martin Andree gewinnen konnten\, zu un
 s nach Kiel zu kommen. Wir sind gespannt auf seinen Impulsvortrag und auf 
 die Diskussion im Anschluss.Ablauf\n19:30 Uhr Eintrudeln\n20:00 Uhr Impuls
 vortrag von Dr. Martin Andree\n20:30 Uhr Fragen und DiskussionVielen Dank 
 an die Digitale Woche Kiel und das Land Schleswig-Holstein\, die dieses Ev
 ent finanziell unterstützen.\n\n\n
LOCATION:InnoPier\, Martensdamm 6\, 24103 Kiel
URL:https://events.digitalewochekiel.de/event/QLDp4zLD
DTSTART;TZID=Europe/Berlin:20250512T200000
DTEND;TZID=Europe/Berlin:20250512T213000
END:VEVENT
END:VCALENDAR