BEGIN:VCALENDAR
VERSION:2.0
PRODID:spatie/icalendar-generator
NAME:Programmveröffentlichung & Netzwerktreffen #diwokiel26
X-WR-CALNAME:Programmveröffentlichung & Netzwerktreffen #diwokiel26
BEGIN:VTIMEZONE
TZID:Europe/Berlin
BEGIN:STANDARD
DTSTART:20251026T030000
TZOFFSETFROM:+0200
TZOFFSETTO:+0100
END:STANDARD
BEGIN:DAYLIGHT
DTSTART:20260329T010000
TZOFFSETFROM:+0100
TZOFFSETTO:+0200
END:DAYLIGHT
END:VTIMEZONE
BEGIN:VTIMEZONE
TZID:UTC
BEGIN:STANDARD
DTSTART:20250728T124242
TZOFFSETFROM:+0000
TZOFFSETTO:+0000
END:STANDARD
END:VTIMEZONE
BEGIN:VEVENT
UID:69eb654230bc9
DTSTAMP:20260424T124242Z
SUMMARY:Programmveröffentlichung & Netzwerktreffen #diwokiel26
DESCRIPTION:„Vorhang auf“ für das Jubiläumsprogramm der #diwokiel. \n
 Am Donnerstag\, 26. März\, um 17 Uhr stimmen wir uns gemeinsam im Rahmen 
 unseres Netzwerktreffens auf eine inspirierende Woche voller Zukunftsimpul
 se ein - auf die zehnte Ausgabe unseres Digitalfestivals.\nEinlass ist ab 
 16:30 Uhr.\n\nBist Du dabei? Dann melde Dich gleich an!\n\n\n
LOCATION:Kulturspeicher\, Schleswig-Holsteinische\, Landesbibliothek\, Wall
  47/51 • 24103 Kiel
URL:https://events.digitalewochekiel.de/event/xYrnALMr
DTSTART;TZID=Europe/Berlin:20260326T170000
DTEND;TZID=Europe/Berlin:20260326T193000
END:VEVENT
END:VCALENDAR